Workbook

Sheet โครงการ
A1: แบบฟอร์มโครงการอนุรักษ์พันธุกรรมพืชอันเนื่องมาจากพระราชดำริ สมเด็จพระเทพรัตนราชสุดาฯ สยามบรมราชกุมารี (อพ.สธ.) มหาวิทยาลัยราชภัฎเชียงราย
A2: ประจำปีงบประมาณ พ.ศ. 2571
A4: 1. ชื่อโครงการ : .............................................................................................................
A6: 2. โครงการตามกรอบแผนแม่บทระยะ 5 ปีที่แปด (ตุลาคม 2569 - กันยายน 2574)
B7: q | C7: กรอบการเรียนรู้ทรัพยากร (F1)
C8: q | D8: F1A1 กิจกรรมปกปักทรัพยากร
C9: q | D9: F1A2 กิจกรรมสำรวจเก็บรวบรวมทรัพยากร
C10: q | D10: F1A3 กิจกรรมปลูกรักษาทรัพยากร
B11: q | C11: กรอบการใช้ประโยชน์ทรัพยากร (F2)
C12: q | D12: F2A4 กิจกรรมอนุรักษ์และใช้ประโยชน์ทรัพยากร
C13: q | D13: F2A5 กิจกรรมศูนย์ข้อมูลทรัพยากร
C14: q | D14: F2A6 กิจกรรมวางแผนพัฒนาทรัพยากร
B15: q | C15: กรอบการสร้างจิตสำนึกในอารกอนุรักษ์ทรัพยากร (F3)
C16: q | D16: F3A7 กิจกรรมสร้างจิตสำนึกในการอนุรักษ์ทรัพยากร
C17: q | D17: F3A8 กิจกรรมพิเศษสนับสนุนการพัฒนาทรัพยากร
A18: 3. ผลิตภัณฑ์/นวัตกรรมที่เกิดขึ้นจากการดำเนินโครงการ
C19: q | D19: ผลิตภัณฑ์/นวัตกรรมที่เกิดขึ้นจากการดำเนินโครงการ....................................................................
C20: q | D20: ผลิตภัณฑ์/นวัตกรรมต่อยอดจากโครงการ.........................................................ปีงบประมาณ..................
C21: ได้รับการสนับสนุนจาก ................................................................................................................................................................
A23: 4. ผู้รับผิดชอบโครงการ
B24: ตำแหน่ง | E24: ชื่อ-นามสกุล (โปรดระบุตำแหน่งนำหน้านาม) | I24: เบอร์โทรศัพท์ และอีเมลล์
B25: หัวหน้าโครงการ
B26: คณะทำงาน
B27: ภาคีบูรณาการศาสตร์
A29: 5. ภาคีเครือข่าย | E29: รวม.......................... เครือข่าย/องค์กร
B30: ประกอบด้วย
B31: 5.1 ................................
B32: 5.2 ................................
B33: 5.3 ................................
B34: (โปรดระบุให้ชัดเจน: หมู่บ้าน/ ชุมชน/ อบต./ เทศบาล/ อปท./ หอการค้า/ พัฒนาชุมชน/ อื่นๆ.....)
A35: 6. ผู้เข้าร่วมโครงการ | E35: รวม................ คน ประกอบด้วย
B36: ผู้เข้าร่วมโครงการ | I36: จำนวน (คน)
B37: 1. นักศึกษามหาวิทยาลัยราชภัฏเชียงราย
B38: 2. บุคลากรมหาวิทยาลัยราชภัฏเชียงราย
A40: 7. การบูรณาการกับการเรียนการสอนและงานวิจัย
B41: q | C41: รายวิชาที่นำมาบูรณาการ ...........................................................................................................................
C42: คณะ ................................................................... | E42: สาขาวิชา ......................................................
B43: q | C43: งานวิจัยที่นำมาบูรณาการต่อยอด ชื่อเรื่อง ....................................................................................................................
A45: 8. พื้นที่ดำเนินงานโครงการ
B46: q | C46: พื้นที่ริเริ่ม | E46: .......... หมู่บ้าน
B47: q | C47: พื้นที่ต่อเนื่อง | E47: .......... ตำบล
B48: q | C48: พื้นที่ยั่งยืน | E48: .......... อำเภอ
B49: q | C49: พื้นที่การบริการวิชาการของหน่วยงาน | E49: .......... จังหวัด
E50: .......... โรงเรียน
B51: ประกอบด้วย
B52: 8.1 ..................................
B53: 8.2 ..................................
B54: 8.3 ..................................
B55: 8.4 ..................................
B56: (โปรดระบุให้ชัดเจน: หมู่บ้าน/ ตำบล /อำเภอ /จังหวัด/ อื่นๆ.........)
A58: 9. กลุ่มเป้าหมาย/ผู้ได้รับประโยชน์
B59: กลุ่มเป้าหมาย/ผู้ได้รับประโยชน์ | I59: จำนวน (กลุ่ม/คน)
B60: 1. นักศึกษามหาวิทยาลัยราชภัฏเชียงราย
B61: 2. บุคลากรมหาวิทยาลัยราชภัฏเชียงราย
B62: 3. นักเรียน
B63: 4. ประชาชน
B64: 5. หน่วยงานภาคีเครือข่าย .........................................................
A66: 10. หลักการและเหตุผล
A67: ........................................................................................................................................................................
A68: .....................................................................................................................................................................................
A69: .....................................................................................................................................................................................
A70: .....................................................................................................................................................................................
A71: .....................................................................................................................................................................................
A72: .....................................................................................................................................................................................
A73: .....................................................................................................................................................................................
A74: .....................................................................................................................................................................................
A75: .....................................................................................................................................................................................
A76: .....................................................................................................................................................................................
A77: .....................................................................................................................................................................................
... A82: 11. วัตถุประสงค์โครงการ
B83: 11.1 | C83: เพื่อสนองพระราชดำริโครงการอนุรักษ์พันธุกรรมพืชอันเนื่องมาจากพระราชดำริอันเนื่องมาจากพระราชดำริฯ (อพ.สธ.)
B84: 11.2 | C84: ……....................................…………..........................................
B85: 11.3 | C85: ………....................................…………..........................................
A87: 12. เป้าหมายและผลสัมฤทธิ์ที่สำคัญของโครงการ
A88: เป้าหมายโครงการ | E88: KPI หลัก
A89: output | D89: outcome | E89: ตัวชี้วัด | G89: ค่าเป้าหมาย
A99: 13. ผลที่คาดว่าจะได้รับ (Impact)
B100: 13.1 ............................................................
B101: 13.2 .............................................................
B102: 13.3 ............................................................
A104: 14. กิจกรรมที่ดำเนินการตามเป้าหมาย (ตัวอย่าง)
B105: กิจกรรม | I105: งบประมาณ (บาท)
B106: กิจกรรมย่อยที่ 1 จัดทำฐานการเรียนรู้การปลูกองุ่น | I106: 15000
B107: กิจกรรมย่อยที่ 2 อบรมเชิงปฏิบัติการผลิตสารชีวภัณฑ์เพื่อยกระดับการผลิตผักปลอดภัย | I107: 30000
B108: กิจกรรมย่อยที่ 3 …................................
B109: กิจกรรมย่อยที่ 4 ....................................
B110: กิจกรรมย่อยที่ 5 .....................................
B111: รวมงบประมาณ | I111: =SUM(I106:J110) -> 45000
A113: 15.วิธีการดำเนินงาน
B114: 15.1 ........................................................................
B115: 15.2 .......................................................................
B116: 15.3 ............................................................
B117: 15.3 ............................................................
A118: 15. ระยะเวลาดำเนินการโครงการ | E118: (โปรดระบุช่วงเวลาที่จะดำเนินการให้ชัดเจน)
A120: 16. งบประมาณรวมของโครงการ | E120: ..................................... บาท
A122: 17. วิธีติดตามและประเมินผล
B123: ….....................................................................
G124: ลงชื่อ
H125: (……………………………………………..)
G126: ตำแหน่ง | H126: ……………………………………………….
...

Sheet แผนการใช้งบประมาณ
A1: 18. แผนการใช้จ่ายงบประมาณ
F2: หน่วยนับ : บาท
A3: กิจกรรม | B3: แผนการใช้จ่ายงบประม
B4: ไตรมาสที่ 1 | C4: ไตรมาสที่ 2 | D4: ไตรมาสที่ 3 | E4: ไตรมาสที่ 4 | F4: รวม
B5: (ต.ค. - ธ.ค. 70) | C5: (ม.ค. - มี.ค. 71) | D5: (เม.ย. - มิ.ย. 71) | E5: (ก.ค. - ก.ย. 71)
A6: =โครงการ!B106 -> กิจกรรมย่อยที่ 1 จัดทำฐานการเรียนรู้การปลูกองุ่น | B6: 10000 | F6: =SUM(B6:E6) -> 10000
A7: =โครงการ!B107 -> กิจกรรมย่อยที่ 2 อบรมเชิงปฏิบัติการผลิตสารชีวภัณฑ์เพื่อยกระดับการผลิตผักปลอดภัย | C7: 30000 | F7: =SUM(B7:E7) -> 30000
A8: =โครงการ!B108 -> กิจกรรมย่อยที่ 3 …................................ | F8: =SUM(B8:E8) -> 0
A9: =โครงการ!B109 -> กิจกรรมย่อยที่ 4 .................................... | F9: =SUM(B9:E9) -> 0
A10: =โครงการ!B110 -> กิจกรรมย่อยที่ 5 ..................................... | F10: =SUM(B10:E10) -> 0
A11: รวม | B11: =SUM(B6:B10) -> 10000 | C11: =SUM(C6:C10) -> 30000 | D11: =SUM(D6:D10) -> 0 | E11: =SUM(E6:E10) -> 0 | F11: =SUM(F6:F10) -> 40000

Sheet แตกตัวคูณ
A1: 19. รายละเอียดงบประมาณ (แตกตัวคูณ)
A2: ข้อเสนองบประมาณรายจ่ายประจำปีงบประมาณ พ.ศ. 2571
A3: ผลผลิต : มหาวิทยาลัยราชภัฏเพื่อการพัฒนาท้องถิ่น
A5: ลำดับ | B5: รายการงบประมาณ/กิจกรรม | C5: กลุ่มเป้าหมาย | E5: ระยะเวลา | G5: งบประมาณ | I5: จำนวนครั้ง | K5: รวมทั้งสิ้น
A6: ที่ | C6: จำนวน | D6: หน่วยนับ | E6: จำนวน | F6: หน่วยนับ | G6: เงิน | H6: บาท | I6: จำนวน | J6: ครั้ง | K6: (บาท)
B7: งบเงินอุดหนุน | C7: ไม่ต้องกรอก | K7: =+K8+K18+K28+K38+K48 -> 45000
A8: 1 | B8: =โครงการ!B106 -> กิจกรรมย่อยที่ 1 จัดทำฐานการเรียนรู้การปลูกองุ่น | C8: ไม่ต้องกรอก | K8: =SUM(K9:K17) -> 15000
B9: 1) ค่าตอบแทน | K9: =C9*G9*I9 -> 0
B10: - | K10: =C10*G10*I10 -> 0
B11: - | K11: =C11*G11*I11 -> 0
B12: 2) ค่าใช้สอย | K12: =C12*G12*I12 -> 0
B13: - ค่าจ้างเหมาทำค้างองุ่น | C13: 1 | D13: งาน | G13: 5000 | H13: บาท | I13: 1 | J13: ครั้ง | K13: =C13*G13*I13 -> 5000
B14: - | K14: =C14*G14*I14 -> 0
B15: 3) ค่าวัสดุ | K15: =C15*G15*I15 -> 0
B16: - ค่าวัสดุ อุปกรณ์ ดำเนินงานตามฐานการเรียนรู้ | C16: 1 | D16: ฐาน | G16: 5000 | H16: บาท | I16: 1 | J16: ครั้ง | K16: =C16*G16*I16 -> 5000
B17: - ค่าจัดทำป้ายจุดเรียนรู้ | C17: 1 | D17: ป้าย | G17: 5000 | H17: บาท | I17: 1 | J17: ครั้ง | K17: =C17*G17*I17 -> 5000
A18: 2 | B18: =โครงการ!B107 -> กิจกรรมย่อยที่ 2 อบรมเชิงปฏิบัติการผลิตสารชีวภัณฑ์เพื่อยกระดับการผลิตผักปลอดภัย | C18: ไม่ต้องกรอก | K18: =SUM(K19:K27) -> 30000
B19: 1) ค่าตอบแทน
B20: - ค่าตอบแทนวิทยากร | C20: 2 | D20: คน | E20: 12 | F20: ชั่วโมง | G20: 600 | H20: บาท | I20: 2 | J20: ครั้ง | K20: =SUM(C20*G20*I20) -> 2400
B21: - | K21: =C21*E21*G21*I21 -> 0
B22: 2) ค่าใช้สอย
B23: - ค่าอาหารและอาหารว่างผู้เข้าร่วมกิจกรรม | C23: 50 | D23: คน | G23: 250 | H23: บาท | I23: 2 | J23: ครั้ง | K23: =SUM(C23*G23*I23) -> 25000
B24: - | K24: =C24*E24*G24*I24 -> 0
B25: 3) ค่าวัสดุ
B26: - ค่าวัสดุ อุปกรณ์ | G26: 2600 | H26: บาท | I26: 1 | J26: ครั้ง | K26: =SUM(G26*I26) -> 2600
B27: - | K27: =C27*E27*G27*I27 -> 0
A28: 3 | B28: =โครงการ!B108 -> กิจกรรมย่อยที่ 3 …................................ | C28: ไม่ต้องกรอก | K28: =SUM(K29:K37) -> 0
B29: 1) ค่าตอบแทน
B30: - | K30: =C30*E30*G30*I30 -> 0
B31: - | K31: =C31*E31*G31*I31 -> 0
B32: 2) ค่าใช้สอย
B33: - | K33: =C33*E33*G33*I33 -> 0
B34: - | K34: =C34*E34*G34*I34 -> 0
B35: 3) ค่าวัสดุ
B36: - | K36: =C36*E36*G36*I36 -> 0
B37: - | K37: =C37*E37*G37*I37 -> 0
A38: 4 | B38: =โครงการ!B109 -> กิจกรรมย่อยที่ 4 .................................... | C38: ไม่ต้องกรอก | K38: =SUM(K39:K47) -> 0
B39: 1) ค่าตอบแทน
B40: - | K40: =C40*E40*G40*I40 -> 0
B41: - | K41: =C41*E41*G41*I41 -> 0
B42: 2) ค่าใช้สอย
B43: - | K43: =C43*E43*G43*I43 -> 0
B44: - | K44: =C44*E44*G44*I44 -> 0
B45: 3) ค่าวัสดุ
B46: - | K46: =C46*E46*G46*I46 -> 0
B47: - | K47: =C47*E47*G47*I47 -> 0
A48: 5 | B48: =โครงการ!B110 -> กิจกรรมย่อยที่ 5 ..................................... | C48: ไม่ต้องกรอก | K48: =SUM(K49:K57) -> 0
B49: 1) ค่าตอบแทน
B50: - | K50: =C50*E50*G50*I50 -> 0
B51: - | K51: =C51*E51*G51*I51 -> 0
B52: 2) ค่าใช้สอย
B53: - | K53: =C53*E53*G53*I53 -> 0
B54: - | K54: =C54*E54*G54*I54 -> 0
B55: 3) ค่าวัสดุ
B56: - | K56: =C56*E56*G56*I56 -> 0
B57: -
B58: - | K58: =C58*E58*G58*I58 -> 0
